BEGIN:VCALENDAR
VERSION:2.0
PRODID:-//Vignerons La Cave - ECPv6.7.1//NONSGML v1.0//EN
CALSCALE:GREGORIAN
METHOD:PUBLISH
X-WR-CALNAME:Vignerons La Cave
X-ORIGINAL-URL:https://www.vigneronslacave.com
X-WR-CALDESC:Évènements pour Vignerons La Cave
REFRESH-INTERVAL;VALUE=DURATION:PT1H
X-Robots-Tag:noindex
X-PUBLISHED-TTL:PT1H
BEGIN:VTIMEZONE
TZID:Europe/Paris
BEGIN:DAYLIGHT
TZOFFSETFROM:+0100
TZOFFSETTO:+0200
TZNAME:CEST
DTSTART:20240331T010000
END:DAYLIGHT
BEGIN:STANDARD
TZOFFSETFROM:+0200
TZOFFSETTO:+0100
TZNAME:CET
DTSTART:20241027T010000
END:STANDARD
END:VTIMEZONE
BEGIN:VEVENT
DTSTART;TZID=Europe/Paris:20240503T170000
DTEND;TZID=Europe/Paris:20240503T193000
DTSTAMP:20260421T132738
CREATED:20240420T110435Z
LAST-MODIFIED:20240420T110624Z
UID:20512-1714755600-1714764600@www.vigneronslacave.com
SUMMARY:"Dégustation Château Pesquié"
DESCRIPTION:Le vendredi 3 Mai\, nous accueillons le Château Pesquié situé au pied du mont Ventoux. Il est la propriété de la famille chaudière depuis les années 70\, qui travaille en biodynamie sur l’ensemble du domaine. Son emplacement unique signe le style de la maison : exprimer la fraîcheur du terroir. \nCe moment de découverte et de partage se déroule au cœur de la boutique Vignerons La Cave\, où vous pourrez découvrir 5 vins du domaine.  \nLa dégustation est gratuite\, de 17h à 19h30 ! Au plaisir de vous accueillir ! 
URL:https://www.vigneronslacave.com/atelier/degustation-chateau-pesquie/
LOCATION:Centre Val de Loire
CATEGORIES:Atelier
ATTACH;FMTTYPE=image/png:https://www.vigneronslacave.com/wp-content/uploads/2024/04/chateau-pesquie-screen-1.png
ORGANIZER;CN="Vignerons La Cave":MAILTO:vigneronslacave@gmail.com
END:VEVENT
END:VCALENDAR